BEGIN:VCALENDAR
PRODID:-//AT Content Types//AT Event//EN
VERSION:2.0
METHOD:PUBLISH
BEGIN:VEVENT
DTSTAMP:20260425T165839Z
CREATED:20131105T170357Z
UID:ATEvent-0adb15bf608cf355a9fef7fe66beef7e
LAST-MODIFIED:20170419T120248Z
SUMMARY:Rosehill Christmas Event
DTSTART:20131129T150000Z
DTEND:20131129T183000Z
DESCRIPTION:The Rosehill Traders organise a fun Christmas event each y
 ear. There will be carols and a band\, market stalls\, entertainers\, 
 and the big Christmas light switch on! You can fill in the survey at a
  special stall which is part of the event.
CLASS:PUBLIC
END:VEVENT
END:VCALENDAR
