BEGIN:VCALENDAR
PRODID:-//AT Content Types//AT Event//EN
VERSION:2.0
METHOD:PUBLISH
BEGIN:VEVENT
DTSTAMP:20260420T112226Z
CREATED:20230925T193228Z
UID:ATEvent-8996f4041a9d4a1388d76f064d6deec8
LAST-MODIFIED:20231110T105432Z
SUMMARY:Public engagement meeting - Thursday 2 November
DTSTART:20231102T100000Z
DTEND:20231102T120000Z
DESCRIPTION:Carew College\, Church Road\, Beddington\, Wallington SM6 
 7NH\n\nWe encourage attendees to register in advance (via https://form
 s.office.com/e/CcDrMZDLU9) to help us plan space and accessibility\, t
 hough you are also welcome to attend on the day.
CLASS:PUBLIC
END:VEVENT
END:VCALENDAR
