BEGIN:VCALENDAR
PRODID:-//AT Content Types//AT Event//EN
VERSION:2.0
METHOD:PUBLISH
BEGIN:VEVENT
DTSTAMP:20260420T112248Z
CREATED:20230925T193229Z
UID:ATEvent-f1f06c720c044fcf934c312736305029
LAST-MODIFIED:20231110T105432Z
SUMMARY:Public engagement meeting (online) - Monday 16 October
DTSTART:20231016T183000Z
DTEND:20231016T200000Z
DESCRIPTION:Online (link on Google Meet: https://meet.google.com/yzg-h
 ngz-tbu)\n\nWe encourage attendees to register in advance (via https:/
 /forms.office.com/e/CcDrMZDLU9) to help us plan for numbers\, though y
 ou are also welcome to attend on the day.
CLASS:PUBLIC
END:VEVENT
END:VCALENDAR
