BEGIN:VCALENDAR
PRODID:-//AT Content Types//AT Event//EN
VERSION:2.0
METHOD:PUBLISH
BEGIN:VEVENT
DTSTAMP:20260420T112915Z
CREATED:20230925T193228Z
UID:ATEvent-ddd1916f56724d1c9c11c32c78bac85b
LAST-MODIFIED:20231110T105432Z
SUMMARY:Public engagement meeting - Thursday 12 October
DTSTART:20231012T090000Z
DTEND:20231012T110000Z
DESCRIPTION:Creative Room\, Cognus\, Cantium House\, Wallington SM6 0D
 Z\n\nWe encourage attendees to register in advance (via https://forms.
 office.com/e/CcDrMZDLU9) to help us plan space and accessibility\, tho
 ugh you are also welcome to attend on the day.
CLASS:PUBLIC
END:VEVENT
END:VCALENDAR
