BEGIN:VCALENDAR
PRODID:-//AT Content Types//AT Event//EN
VERSION:2.0
METHOD:PUBLISH
BEGIN:VEVENT
DTSTAMP:20260423T004820Z
CREATED:20200128T092509Z
UID:ATEvent-3f3efd27f2c44c809b550a71183b5b1c
LAST-MODIFIED:20220510T105155Z
SUMMARY:Drop-in at Hill House
DTSTART:20200204T140000Z
DTEND:20200204T180000Z
CLASS:PUBLIC
END:VEVENT
END:VCALENDAR
