BEGIN:VCALENDAR
PRODID:-//AT Content Types//AT Event//EN
VERSION:2.0
METHOD:PUBLISH
BEGIN:VEVENT
DTSTAMP:20260423T004906Z
CREATED:20200107T102722Z
UID:ATEvent-c3adcdb798ec42aa8f4ef1db564ea4c0
LAST-MODIFIED:20220510T105155Z
SUMMARY:Drop-in at David Weir Leisure Centre
DTSTART:20200124T160000Z
DTEND:20200124T190000Z
CLASS:PUBLIC
END:VEVENT
END:VCALENDAR
