BEGIN:VCALENDAR
PRODID:-//AT Content Types//AT Event//EN
VERSION:2.0
METHOD:PUBLISH
BEGIN:VEVENT
DTSTAMP:20260423T005228Z
CREATED:20200107T102722Z
UID:ATEvent-9a8575f997214ac7b6ae4cede45b67d1
LAST-MODIFIED:20220510T105155Z
SUMMARY:Drop-in at Costa Coffee
DTSTART:20200201T093000Z
DTEND:20200201T130000Z
CLASS:PUBLIC
END:VEVENT
END:VCALENDAR
