BEGIN:VCALENDAR
PRODID:-//AT Content Types//AT Event//EN
VERSION:2.0
METHOD:PUBLISH
BEGIN:VEVENT
DTSTAMP:20260423T005003Z
CREATED:20200107T102722Z
UID:ATEvent-0782b65f5f0c4f92b7bffe8c13b8c62c
LAST-MODIFIED:20220510T105155Z
SUMMARY:Drop-in at Costa Coffee
DTSTART:20200130T093000Z
DTEND:20200130T130000Z
CLASS:PUBLIC
END:VEVENT
END:VCALENDAR
