BEGIN:VCALENDAR
PRODID:-//AT Content Types//AT Event//EN
VERSION:2.0
METHOD:PUBLISH
BEGIN:VEVENT
DTSTAMP:20260423T005026Z
CREATED:20200107T102722Z
UID:ATEvent-66307e8bf8a24186bccc55777b20337f
LAST-MODIFIED:20220510T105155Z
SUMMARY:Drop-in at Circle Library
DTSTART:20200211T100000Z
DTEND:20200211T140000Z
CLASS:PUBLIC
END:VEVENT
END:VCALENDAR
