BEGIN:VCALENDAR
PRODID:-//AT Content Types//AT Event//EN
VERSION:2.0
METHOD:PUBLISH
BEGIN:VEVENT
DTSTAMP:20260422T022013Z
CREATED:20190903T143809Z
UID:ATEvent-6a0195d54442458e95cee4ec05055817
LAST-MODIFIED:20191015T110926Z
SUMMARY:Drop in event: have your say - session 2 (Sutton train station)
DTSTART:20190926T160000Z
DTEND:20190926T180000Z
DESCRIPTION:If you would like to speak to us in person about your idea
 s staff will be located in front of Sutton train station.
CLASS:PUBLIC
END:VEVENT
END:VCALENDAR
