BEGIN:VCALENDAR
PRODID:-//AT Content Types//AT Event//EN
VERSION:2.0
METHOD:PUBLISH
BEGIN:VEVENT
DTSTAMP:20260422T022115Z
CREATED:20190904T104245Z
UID:ATEvent-764c9e8a81bc41b8a4041eea07fa64a0
LAST-MODIFIED:20191015T110926Z
SUMMARY:Drop in event: have your say - session 3 (High Street)
DTSTART:20191009T110000Z
DTEND:20191009T130000Z
DESCRIPTION:If you would like to speak to us in person about your idea
 s staff will be located in Trinity Square in Sutton High Street.
CLASS:PUBLIC
END:VEVENT
END:VCALENDAR
