BEGIN:VCALENDAR
PRODID:-//AT Content Types//AT Event//EN
VERSION:2.0
METHOD:PUBLISH
BEGIN:VEVENT
DTSTAMP:20260422T022033Z
CREATED:20190904T104245Z
UID:ATEvent-723ed0e8bd104e5e9296e87d54966cd0
LAST-MODIFIED:20191015T110926Z
SUMMARY:Drop in event: have your say - session 4 (Sutton train station)
DTSTART:20191009T160000Z
DTEND:20191009T180000Z
DESCRIPTION:If you would like to speak to us in person about your idea
 s staff will be located in front of Sutton train station.
CLASS:PUBLIC
END:VEVENT
END:VCALENDAR
