BEGIN:VCALENDAR
PRODID:-//AT Content Types//AT Event//EN
VERSION:2.0
METHOD:PUBLISH
BEGIN:VEVENT
DTSTAMP:20260422T021845Z
CREATED:20190903T143809Z
UID:ATEvent-cc5334a9e9a440b2827c1d2eaf54298f
LAST-MODIFIED:20191015T110926Z
SUMMARY:Drop in event: have your say - session 1 (High Street)
DTSTART:20190926T110000Z
DTEND:20190926T130000Z
DESCRIPTION:If you would like to speak to us in person about your idea
 s staff will be located in Trinity Square in Sutton High Street.
CLASS:PUBLIC
END:VEVENT
END:VCALENDAR
