BEGIN:VCALENDAR
PRODID:-//AT Content Types//AT Event//EN
VERSION:2.0
METHOD:PUBLISH
BEGIN:VEVENT
DTSTAMP:20260425T113154Z
CREATED:20210218T161314Z
UID:ATEvent-ff068183e1404e2e847c19b79659363c
LAST-MODIFIED:20210218T161314Z
SUMMARY:Sutton\, South Cheam & Belmont Local Committee Meeting Online
DTSTART:20210311T190000Z
DTEND:20210311T210000Z
DESCRIPTION:Further information and link to meeting live stream: https
 ://moderngov.sutton.gov.uk/ieListDocuments.aspx?CId=357&MId=5501&Ver=4
 
CLASS:PUBLIC
END:VEVENT
END:VCALENDAR
