BEGIN:VCALENDAR
PRODID:-//AT Content Types//AT Event//EN
VERSION:2.0
METHOD:PUBLISH
BEGIN:VEVENT
DTSTAMP:20260425T124843Z
CREATED:20210113T133040Z
UID:ATEvent-e3b79b9d242b4462bf3bc89f2b1ae379
LAST-MODIFIED:20210218T161314Z
SUMMARY:Sutton Local Committee Meeting Online
DTSTART:20210225T190000Z
DTEND:20210225T210000Z
DESCRIPTION:Further information and link to meeting live stream: https
 ://moderngov.sutton.gov.uk/ieListDocuments.aspx?CId=358&MId=5478&Ver=4
 
CLASS:PUBLIC
END:VEVENT
END:VCALENDAR
