BEGIN:VCALENDAR
PRODID:-//AT Content Types//AT Event//EN
VERSION:2.0
METHOD:PUBLISH
BEGIN:VEVENT
DTSTAMP:20260425T113317Z
CREATED:20210218T161314Z
UID:ATEvent-7a9b5be7671c4134b022f5a99bedeccd
LAST-MODIFIED:20210218T161314Z
SUMMARY:St Helier\, The Wrythe and Wandle Valley Local Committee Meeting Online
DTSTART:20210304T190000Z
DTEND:20210304T210000Z
DESCRIPTION:Further information and link to meeting live stream: https
 ://moderngov.sutton.gov.uk/ieListDocuments.aspx?CId=360&MId=5510&Ver=4
 
CLASS:PUBLIC
END:VEVENT
END:VCALENDAR
