BEGIN:VCALENDAR
PRODID:-//AT Content Types//AT Event//EN
VERSION:2.0
METHOD:PUBLISH
BEGIN:VEVENT
DTSTAMP:20260425T124508Z
CREATED:20210113T133040Z
UID:ATEvent-4f1dfa394da648e2aedd320c5f3a1e87
LAST-MODIFIED:20210218T161313Z
SUMMARY:Cheam North & Worcester Park Local Committee Meeting Online
DTSTART:20210114T190000Z
DTEND:20210114T210000Z
DESCRIPTION:Further information and link to meeting live stream: https
 ://moderngov.sutton.gov.uk/ieListDocuments.aspx?CId=359&MId=5512&Ver=4
 
CLASS:PUBLIC
END:VEVENT
END:VCALENDAR
