BEGIN:VCALENDAR
PRODID:-//AT Content Types//AT Event//EN
VERSION:2.0
METHOD:PUBLISH
BEGIN:VEVENT
DTSTAMP:20260425T112548Z
CREATED:20210113T133040Z
UID:ATEvent-a71925241ccc4a09b631e3dee4618673
LAST-MODIFIED:20210218T161314Z
SUMMARY:Carshalton & Clockhouse Local Committee Meeting Online
DTSTART:20210119T190000Z
DTEND:20210119T210000Z
DESCRIPTION:Further information and link to meeting live stream: https
 ://moderngov.sutton.gov.uk/ieListDocuments.aspx?CId=365&MId=5552&Ver=4
 
CLASS:PUBLIC
END:VEVENT
END:VCALENDAR
