BEGIN:VCALENDAR
PRODID:-//AT Content Types//AT Event//EN
VERSION:2.0
METHOD:PUBLISH
BEGIN:VEVENT
DTSTAMP:20260425T112849Z
CREATED:20210218T161314Z
UID:ATEvent-3fc9bea6c62a48bcae2224d358a17426
LAST-MODIFIED:20210218T161314Z
SUMMARY:Carshalton and Clockhouse Local Committee Meeting Online
DTSTART:20210308T190000Z
DTEND:20210308T210000Z
DESCRIPTION:Further information and link to meeting live stream: https
 ://moderngov.sutton.gov.uk/ieListDocuments.aspx?CId=365&MId=5464&Ver=4
 
CLASS:PUBLIC
END:VEVENT
END:VCALENDAR
