BEGIN:VCALENDAR
PRODID:-//AT Content Types//AT Event//EN
VERSION:2.0
METHOD:PUBLISH
BEGIN:VEVENT
DTSTAMP:20260425T113154Z
CREATED:20210218T161314Z
UID:ATEvent-54393ff2446c4ff4a46f61edc0f10683
LAST-MODIFIED:20210218T161314Z
SUMMARY:Beddington & Wallington Local Committee Meeting Online
DTSTART:20210302T190000Z
DTEND:20210302T210000Z
DESCRIPTION:Further information and link to meeting live stream: https
 ://moderngov.sutton.gov.uk/ieListDocuments.aspx?CId=375&MId=5509&Ver=4
 
CLASS:PUBLIC
END:VEVENT
END:VCALENDAR
