BEGIN:VCALENDAR
PRODID:-//AT Content Types//AT Event//EN
VERSION:2.0
METHOD:PUBLISH
BEGIN:VEVENT
DTSTAMP:20260422T021946Z
CREATED:20210218T165718Z
UID:ATEvent-b2cb09460d42483e8ce56776cafb50e7
LAST-MODIFIED:20210218T165718Z
SUMMARY:South Sutton Cheam & Belmont Local Committee Online
DTSTART:20210311T190000Z
DTEND:20210311T210000Z
DESCRIPTION:Opportunity to hear more about this consultation: https://
 moderngov.sutton.gov.uk/ieListDocuments.aspx?CId=357&MId=5501&Ver=4
CLASS:PUBLIC
END:VEVENT
END:VCALENDAR
