BEGIN:VCALENDAR
PRODID:-//AT Content Types//AT Event//EN
VERSION:2.0
METHOD:PUBLISH
BEGIN:VEVENT
DTSTAMP:20260423T221940Z
CREATED:20190522T152411Z
UID:ATEvent-ad55469b39804801b91adf29fc0c9884
LAST-MODIFIED:20190523T105733Z
SUMMARY:Information Stall on Carshalton High Street
DTSTART:20190607T100000Z
DTEND:20190607T130000Z
CLASS:PUBLIC
END:VEVENT
END:VCALENDAR
