BEGIN:VCALENDAR
PRODID:-//AT Content Types//AT Event//EN
VERSION:2.0
METHOD:PUBLISH
BEGIN:VEVENT
DTSTAMP:20260423T222105Z
CREATED:20190522T152411Z
UID:ATEvent-0dbc114572854c2eb2117ade4a5a39d9
LAST-MODIFIED:20190523T105733Z
SUMMARY:Public Event at All Saints Church\, Carshalton
DTSTART:20190704T170000Z
DTEND:20190704T200000Z
DESCRIPTION:Come to the public event at All Saints Church\, Carshalton
  on Thursday 4 July. Drop-in from 6pm\, meeting from 7.30pm
CLASS:PUBLIC
END:VEVENT
END:VCALENDAR
