BEGIN:VCALENDAR
PRODID:-//AT Content Types//AT Event//EN
VERSION:2.0
METHOD:PUBLISH
BEGIN:VEVENT
DTSTAMP:20260423T195047Z
CREATED:20210218T165448Z
UID:ATEvent-4b4b9b8e10804b7e8524b428bb118d58
LAST-MODIFIED:20210218T165839Z
SUMMARY:Beddington & Wallington Local Committee Online
DTSTART:20210302T190000Z
DTEND:20210302T210000Z
DESCRIPTION:Opportunity to hear more about this consultation: https://
 moderngov.sutton.gov.uk/ieListDocuments.aspx?CId=375&MId=5509&Ver=4
CLASS:PUBLIC
END:VEVENT
END:VCALENDAR
