BEGIN:VCALENDAR
PRODID:-//AT Content Types//AT Event//EN
VERSION:2.0
METHOD:PUBLISH
BEGIN:VEVENT
DTSTAMP:20260425T165909Z
CREATED:20131218T124018Z
UID:ATEvent-08d0d87320e4cb535d2a09189e0d6dc9
LAST-MODIFIED:20170419T113353Z
SUMMARY:St Marys Catholic Junior
DTSTART:20140128T193000Z
DTEND:20140128T210000Z
DESCRIPTION:Public Meeting to be held at the school.
CLASS:PUBLIC
END:VEVENT
END:VCALENDAR
