BEGIN:VCALENDAR
PRODID:-//AT Content Types//AT Event//EN
VERSION:2.0
METHOD:PUBLISH
BEGIN:VEVENT
DTSTAMP:20260425T165936Z
CREATED:20131218T124018Z
UID:ATEvent-8f0b3a2a12810b94acc7546c3c5f059f
LAST-MODIFIED:20170419T113353Z
SUMMARY:Federation of St Elphege's Catholic Junior
DTSTART:20140116T190000Z
DTEND:20140116T203000Z
DESCRIPTION:Public Meeting to be held at the school.
CLASS:PUBLIC
END:VEVENT
END:VCALENDAR
