BEGIN:VCALENDAR
PRODID:-//AT Content Types//AT Event//EN
VERSION:2.0
METHOD:PUBLISH
BEGIN:VEVENT
DTSTAMP:20260425T170034Z
CREATED:20131218T124017Z
UID:ATEvent-1f9df45d958197179ebcffcb92319f96
LAST-MODIFIED:20170419T113353Z
SUMMARY:Cheam North and Worcester Park Area Committee
DTSTART:20140130T190000Z
DTEND:20140130T210000Z
DESCRIPTION:Local Committee meeting - Cheam Common Junior
CLASS:PUBLIC
END:VEVENT
END:VCALENDAR
