BEGIN:VCALENDAR
PRODID:-//AT Content Types//AT Event//EN
VERSION:2.0
METHOD:PUBLISH
BEGIN:VEVENT
DTSTAMP:20260425T165910Z
CREATED:20131218T124018Z
UID:ATEvent-67129352c12ae8950a608b904b7e7a69
LAST-MODIFIED:20170419T113353Z
SUMMARY:Cheam Common Junior
DTSTART:20140129T190000Z
DTEND:20140129T203000Z
DESCRIPTION:Public Meeting to be held at the school.
CLASS:PUBLIC
END:VEVENT
END:VCALENDAR
