BEGIN:VCALENDAR
PRODID:-//AT Content Types//AT Event//EN
VERSION:2.0
METHOD:PUBLISH
BEGIN:VEVENT
DTSTAMP:20260425T170012Z
CREATED:20131218T124018Z
UID:ATEvent-4d5dc8b4dbb50305c5667be6d2442e33
LAST-MODIFIED:20170419T113353Z
SUMMARY:Carshalton and Clockhouse Area Committee
DTSTART:20140121T190000Z
DTEND:20140121T210000Z
DESCRIPTION:Local Committee meeting - St Marys Catholic Junior
CLASS:PUBLIC
END:VEVENT
END:VCALENDAR
