BEGIN:VCALENDAR
PRODID:-//AT Content Types//AT Event//EN
VERSION:2.0
METHOD:PUBLISH
BEGIN:VEVENT
DTSTAMP:20260425T170012Z
CREATED:20131218T124018Z
UID:ATEvent-afe8660ff0af44f124aa32979a68a8c0
LAST-MODIFIED:20170419T113353Z
SUMMARY:Beddington and Wallington Area Committee
DTSTART:20140204T190000Z
DTEND:20140204T210000Z
DESCRIPTION:Local Committee meeting - Federation of St Elpheges Junior
 
CLASS:PUBLIC
END:VEVENT
END:VCALENDAR
