BEGIN:VCALENDAR
PRODID:-//AT Content Types//AT Event//EN
VERSION:2.0
METHOD:PUBLISH
BEGIN:VEVENT
DTSTAMP:20260425T165909Z
CREATED:20140102T120335Z
UID:ATEvent-68b442640e01ec6812013112d4cd54cd
LAST-MODIFIED:20170419T114842Z
SUMMARY:School Meeting
DTSTART:20140127T170000Z
DTEND:20140127T183000Z
DESCRIPTION:Meeting to be held at Sherwood Park Special School.
CLASS:PUBLIC
END:VEVENT
END:VCALENDAR
