BEGIN:VCALENDAR
PRODID:-//AT Content Types//AT Event//EN
VERSION:2.0
METHOD:PUBLISH
BEGIN:VEVENT
DTSTAMP:20260425T183426Z
CREATED:20140102T120335Z
UID:ATEvent-fb468062e4e3d4f0243fc851eec4b328
LAST-MODIFIED:20170419T114842Z
SUMMARY:Local Area Committee
DTSTART:20140121T193000Z
DTEND:20140121T210000Z
DESCRIPTION:Carshalton and Clockhouse. Meeting to be held at Beeches B
 aptist Church.
CLASS:PUBLIC
END:VEVENT
END:VCALENDAR
