BEGIN:VCALENDAR
PRODID:-//AT Content Types//AT Event//EN
VERSION:2.0
METHOD:PUBLISH
BEGIN:VEVENT
DTSTAMP:20260425T165915Z
CREATED:20140102T102649Z
UID:ATEvent-80b5c08cd25a0219ba463c738e7d89c5
LAST-MODIFIED:20170419T114728Z
SUMMARY:School Meeting
DTSTART:20140206T190000Z
DTEND:20140206T203000Z
DESCRIPTION:To be held at Culvers House Primary
CLASS:PUBLIC
END:VEVENT
END:VCALENDAR
