BEGIN:VCALENDAR
PRODID:-//AT Content Types//AT Event//EN
VERSION:2.0
METHOD:PUBLISH
BEGIN:VEVENT
DTSTAMP:20260425T165811Z
CREATED:20140102T102649Z
UID:ATEvent-afb1b005a4ed60926facd459582adee3
LAST-MODIFIED:20170419T114728Z
SUMMARY:Local Area Committee
DTSTART:20140116T193000Z
DTEND:20140116T210000Z
DESCRIPTION:St Helier,The Wrythe and Wandle Valley Local Committee. To
  be held at Riverside Community Centre.
CLASS:PUBLIC
END:VEVENT
END:VCALENDAR
