BEGIN:VCALENDAR
PRODID:-//AT Content Types//AT Event//EN
VERSION:2.0
METHOD:PUBLISH
BEGIN:VEVENT
DTSTAMP:20260425T165811Z
CREATED:20140102T130508Z
UID:ATEvent-d51745bfd534bd7d3c9b71cf47e84045
LAST-MODIFIED:20170419T114615Z
SUMMARY:Local Area Committee
DTSTART:20140109T193000Z
DTEND:20140109T210000Z
DESCRIPTION:Sutton\, South Cheam and Belmont Local Committee. To be he
 ld at Overton Grange School.
CLASS:PUBLIC
END:VEVENT
END:VCALENDAR
