BEGIN:VCALENDAR
PRODID:-//AT Content Types//AT Event//EN
VERSION:2.0
METHOD:PUBLISH
BEGIN:VEVENT
DTSTAMP:20260425T183344Z
CREATED:20140102T130508Z
UID:ATEvent-f277f55dc23811724a2d32109444cd30
LAST-MODIFIED:20170419T114615Z
SUMMARY:At The School
DTSTART:20140203T190000Z
DTEND:20140203T203000Z
DESCRIPTION:To be held at Avenue Primary School.
CLASS:PUBLIC
END:VEVENT
END:VCALENDAR
