BEGIN:VCALENDAR
PRODID:-//AT Content Types//AT Event//EN
VERSION:2.0
METHOD:PUBLISH
BEGIN:VEVENT
DTSTAMP:20260425T170013Z
CREATED:20131113T155003Z
UID:ATEvent-8bda798b261262424345f6a419c7e5da
LAST-MODIFIED:20190618T143024Z
SUMMARY:Open consultation event for people and organisations that might want to use the Centre in the future.
DTSTART:20131212T143000Z
DTEND:20131212T160000Z
DESCRIPTION:This event is open to all people who might want to use the
  facilities at the Center in the future and their carers\, as well as 
 organisations that might want to use the facilities to provide service
 s and create opportunities for people with disabilities at the Centre.
 
CLASS:PUBLIC
END:VEVENT
END:VCALENDAR
