BEGIN:VCALENDAR
PRODID:-//AT Content Types//AT Event//EN
VERSION:2.0
METHOD:PUBLISH
BEGIN:VEVENT
DTSTAMP:20260425T170034Z
CREATED:20131113T154102Z
UID:ATEvent-98a72dbbfd32ecb0ef1e1fdb8f733d6a
LAST-MODIFIED:20190618T143025Z
SUMMARY:Consultation event for people that already use the facilities at Sutton Inclusion Centre.
DTSTART:20131128T100000Z
DTEND:20131128T113000Z
DESCRIPTION:This event is specifically for the people curently using t
 he facilities Centre and their carers.
CLASS:PUBLIC
END:VEVENT
END:VCALENDAR
