BEGIN:VCALENDAR
PRODID:-//AT Content Types//AT Event//EN
VERSION:2.0
METHOD:PUBLISH
BEGIN:VEVENT
DTSTAMP:20260425T183052Z
CREATED:20131113T154353Z
UID:ATEvent-94c57e6b4103225a6f33113a2b1f9dbb
LAST-MODIFIED:20190618T143025Z
SUMMARY:Consultation event for people accessing healthcare services at Sutton Inclusion Centre.
DTSTART:20131204T100000Z
DTEND:20131204T113000Z
DESCRIPTION:This event is specifically for the people who access the s
 pecialist healthcare services for people with learning disabilities at
  the Centre\, and the specialist healthcare providers.
CLASS:PUBLIC
END:VEVENT
END:VCALENDAR
